BEGIN:VCALENDAR
VERSION:2.0
PRODID:-//Eagle Park Brewing Company - ECPv6.15.17.1//NONSGML v1.0//EN
CALSCALE:GREGORIAN
METHOD:PUBLISH
X-WR-CALNAME:Eagle Park Brewing Company
X-ORIGINAL-URL:https://www.eagleparkbrewing.com
X-WR-CALDESC:Events for Eagle Park Brewing Company
REFRESH-INTERVAL;VALUE=DURATION:PT1H
X-Robots-Tag:noindex
X-PUBLISHED-TTL:PT1H
BEGIN:VTIMEZONE
TZID:America/Chicago
BEGIN:DAYLIGHT
TZOFFSETFROM:-0600
TZOFFSETTO:-0500
TZNAME:CDT
DTSTART:20240310T080000
END:DAYLIGHT
BEGIN:STANDARD
TZOFFSETFROM:-0500
TZOFFSETTO:-0600
TZNAME:CST
DTSTART:20241103T070000
END:STANDARD
BEGIN:DAYLIGHT
TZOFFSETFROM:-0600
TZOFFSETTO:-0500
TZNAME:CDT
DTSTART:20250309T080000
END:DAYLIGHT
BEGIN:STANDARD
TZOFFSETFROM:-0500
TZOFFSETTO:-0600
TZNAME:CST
DTSTART:20251102T070000
END:STANDARD
BEGIN:DAYLIGHT
TZOFFSETFROM:-0600
TZOFFSETTO:-0500
TZNAME:CDT
DTSTART:20260308T080000
END:DAYLIGHT
BEGIN:STANDARD
TZOFFSETFROM:-0500
TZOFFSETTO:-0600
TZNAME:CST
DTSTART:20261101T070000
END:STANDARD
END:VTIMEZONE
BEGIN:VEVENT
DTSTART;TZID=America/Chicago:20251126T140000
DTEND;TZID=America/Chicago:20251126T143000
DTSTAMP:20260424T061223
CREATED:20251104T225414Z
LAST-MODIFIED:20251105T161939Z
UID:10000996-1764165600-1764167400@www.eagleparkbrewing.com
SUMMARY:MKE Drinks-Giving (MKE Taproom)
DESCRIPTION:[vc_row type=”in_container” full_screen_row_position=”middle” column_margin=”default” column_direction=”default” column_direction_tablet=”default” column_direction_phone=”default” scene_position=”center” text_color=”dark” text_align=”left” row_border_radius=”none” row_border_radius_applies=”bg” overflow=”visible” overlay_strength=”0.3″ gradient_direction=”left_to_right” shape_divider_position=”bottom” bg_image_animation=”none”][vc_column column_padding=”no-extra-padding” column_padding_tablet=”inherit” column_padding_phone=”inherit” column_padding_position=”all” column_element_direction_desktop=”default” column_element_spacing=”default” desktop_text_alignment=”default” tablet_text_alignment=”default” phone_text_alignment=”default” background_color_opacity=”1″ background_hover_color_opacity=”1″ column_backdrop_filter=”none” column_shadow=”none” column_border_radius=”none” column_link_target=”_self” column_position=”default” gradient_direction=”left_to_right” overlay_strength=”0.3″ width=”1/1″ tablet_width_inherit=”default” animation_type=”default” bg_image_animation=”none” border_type=”simple” column_border_width=”none” column_border_style=”solid”][image_with_animation image_url=”13197″ image_size=”large” animation_type=”entrance” animation=”None” animation_movement_type=”transform_y” hover_animation=”none” alignment=”center” border_radius=”none” box_shadow=”none” image_loading=”default” max_width=”100%” max_width_mobile=”default”][/vc_column][/vc_row][vc_row type=”in_container” full_screen_row_position=”middle” column_margin=”default” column_direction=”default” column_direction_tablet=”default” column_direction_phone=”default” scene_position=”center” text_color=”dark” text_align=”left” row_border_radius=”none” row_border_radius_applies=”bg” overflow=”visible” overlay_strength=”0.3″ gradient_direction=”left_to_right” shape_divider_position=”bottom” bg_image_animation=”none”][vc_column column_padding=”no-extra-padding” column_padding_tablet=”inherit” column_padding_phone=”inherit” column_padding_position=”all” column_element_direction_desktop=”default” column_element_spacing=”default” desktop_text_alignment=”default” tablet_text_alignment=”default” phone_text_alignment=”default” background_color_opacity=”1″ background_hover_color_opacity=”1″ column_backdrop_filter=”none” column_shadow=”none” column_border_radius=”none” column_link_target=”_self” column_position=”default” gradient_direction=”left_to_right” overlay_strength=”0.3″ width=”1/1″ tablet_width_inherit=”default” animation_type=”default” bg_image_animation=”none” border_type=”simple” column_border_width=”none” column_border_style=”solid”][vc_column_text css=”” text_direction=”default”]\nUnlimited Beer – Only at MKE Brewing \nLet’s be honest—when you came for the old brewery “tour\,” it wasn’t for the tanks or the storytelling. It was for the one-and-a-half hours of unlimited beer. So\, we’re cutting the fluff and giving you exactly what you came for: bottomless MKE brews and zero unnecessary walking. \nWe’re talking 15 tap lines pouring nothing but great beer—so you can sip\, sample\, and celebrate your favorites (and maybe find a new one). \n🍻 When: Wednesday\, November 26th\n 🍻 Where: MKE Brewing Company Taproom\n 🍻 What: 1.5-hour sessions of all-you-can-drink MKE beer across 15 tap lines \nNo tanks. No lectures. Just great beer. Tickets go fast—grab yours and join us for the ultimate way to celebrate Drinks-Giving! \n[/vc_column_text][/vc_column][/vc_row]
URL:https://www.eagleparkbrewing.com/event/mke-drinks-giving-mke-taproom/
LOCATION:MKE Brewing Taproom\, 2335 S Kinnickinnic Ave\, Milwaukee\, 53207\, United States
CATEGORIES:Beer Event
ATTACH;FMTTYPE=image/png:https://www.eagleparkbrewing.com/wp-content/uploads/2025/11/DrinksGiving-Cover-Image-scaled.png
END:VEVENT
BEGIN:VEVENT
DTSTART;TZID=America/Chicago:20250719T120000
DTEND;TZID=America/Chicago:20250719T200000
DTSTAMP:20260424T061223
CREATED:20250703T162558Z
LAST-MODIFIED:20250703T162558Z
UID:10000989-1752926400-1752955200@www.eagleparkbrewing.com
SUMMARY:MKE Taproom "Tour" Day (MKE Taproom)
DESCRIPTION:[vc_row type=”in_container” full_screen_row_position=”middle” column_margin=”default” column_direction=”default” column_direction_tablet=”default” column_direction_phone=”default” scene_position=”center” text_color=”dark” text_align=”left” row_border_radius=”none” row_border_radius_applies=”bg” overflow=”visible” overlay_strength=”0.3″ gradient_direction=”left_to_right” shape_divider_position=”bottom” bg_image_animation=”none”][vc_column column_padding=”no-extra-padding” column_padding_tablet=”inherit” column_padding_phone=”inherit” column_padding_position=”all” column_element_direction_desktop=”default” column_element_spacing=”default” desktop_text_alignment=”default” tablet_text_alignment=”default” phone_text_alignment=”default” background_color_opacity=”1″ background_hover_color_opacity=”1″ column_backdrop_filter=”none” column_shadow=”none” column_border_radius=”none” column_link_target=”_self” column_position=”default” gradient_direction=”left_to_right” overlay_strength=”0.3″ width=”1/1″ tablet_width_inherit=”default” animation_type=”default” bg_image_animation=”none” border_type=”simple” column_border_width=”none” column_border_style=”solid”][image_with_animation image_url=”12703″ image_size=”large” animation_type=”entrance” animation=”None” animation_movement_type=”transform_y” hover_animation=”none” alignment=”center” border_radius=”none” box_shadow=”none” image_loading=”default” max_width=”100%” max_width_mobile=”default”][/vc_column][/vc_row][vc_row type=”in_container” full_screen_row_position=”middle” column_margin=”default” column_direction=”default” column_direction_tablet=”default” column_direction_phone=”default” scene_position=”center” text_color=”dark” text_align=”left” row_border_radius=”none” row_border_radius_applies=”bg” overflow=”visible” overlay_strength=”0.3″ gradient_direction=”left_to_right” shape_divider_position=”bottom” bg_image_animation=”none”][vc_column column_padding=”no-extra-padding” column_padding_tablet=”inherit” column_padding_phone=”inherit” column_padding_position=”all” column_element_direction_desktop=”default” column_element_spacing=”default” desktop_text_alignment=”default” tablet_text_alignment=”default” phone_text_alignment=”default” background_color_opacity=”1″ background_hover_color_opacity=”1″ column_backdrop_filter=”none” column_shadow=”none” column_border_radius=”none” column_link_target=”_self” column_position=”default” gradient_direction=”left_to_right” overlay_strength=”0.3″ width=”1/1″ tablet_width_inherit=”default” animation_type=”default” bg_image_animation=”none” border_type=”simple” column_border_width=”none” column_border_style=”solid”][vc_column_text css=”” text_direction=”default”]\nThe “Tour” You Actually Want – Only at MKE Brewing \nLet’s be honest—when you came for the old brewery “tour\,” it wasn’t for the tanks or the storytelling. It was for the one-and-a-half hours of unlimited beer. So\, we’re cutting the fluff and giving you exactly what you came for: bottomless MKE brews and zero unnecessary walking. \nWe’re talking 15 tap lines pouring nothing but great beer—so you can sip\, sample\, and celebrate your favorites (and maybe find a new one). \n🍻 When: Saturday\, July 19\n 🍻 Where: MKE Brewing Company Taproom\n 🍻 What: 1.5-hour sessions of all-you-can-drink MKE beer across 15 tap lines \nNo tanks. No lectures. Just great beer. Tickets go fast—grab yours and join us for the ultimate drinking session. \n[/vc_column_text][/vc_column][/vc_row]
URL:https://www.eagleparkbrewing.com/event/mke-taproom-tour-day-mke-taproom/
LOCATION:MKE Brewing Taproom\, 2335 S Kinnickinnic Ave\, Milwaukee\, 53207\, United States
CATEGORIES:Beer Event
ATTACH;FMTTYPE=image/png:https://www.eagleparkbrewing.com/wp-content/uploads/2025/05/Taproom-Tour-Cover-Image.png
END:VEVENT
BEGIN:VEVENT
DTSTART;TZID=America/Chicago:20250412T110000
DTEND;TZID=America/Chicago:20250412T210000
DTSTAMP:20260424T061223
CREATED:20250318T172701Z
LAST-MODIFIED:20250318T222146Z
UID:10000885-1744455600-1744491600@www.eagleparkbrewing.com
SUMMARY:MKE Day! (MKE Taproom)
DESCRIPTION:[vc_row type=”in_container” full_screen_row_position=”middle” column_margin=”default” column_direction=”default” column_direction_tablet=”default” column_direction_phone=”default” scene_position=”center” text_color=”dark” text_align=”left” row_border_radius=”none” row_border_radius_applies=”bg” overflow=”visible” overlay_strength=”0.3″ gradient_direction=”left_to_right” shape_divider_position=”bottom” bg_image_animation=”none”][vc_column column_padding=”no-extra-padding” column_padding_tablet=”inherit” column_padding_phone=”inherit” column_padding_position=”all” column_element_direction_desktop=”default” column_element_spacing=”default” desktop_text_alignment=”default” tablet_text_alignment=”default” phone_text_alignment=”default” background_color_opacity=”1″ background_hover_color_opacity=”1″ column_backdrop_filter=”none” column_shadow=”none” column_border_radius=”none” column_link_target=”_self” column_position=”default” gradient_direction=”left_to_right” overlay_strength=”0.3″ width=”1/1″ tablet_width_inherit=”default” animation_type=”default” bg_image_animation=”none” border_type=”simple” column_border_width=”none” column_border_style=”solid”][image_with_animation image_url=”11677″ image_size=”portfolio-thumb_large” animation_type=”entrance” animation=”None” animation_movement_type=”transform_y” hover_animation=”none” alignment=”center” border_radius=”none” box_shadow=”none” image_loading=”default” max_width=”100%” max_width_mobile=”default”][/vc_column][/vc_row][vc_row type=”in_container” full_screen_row_position=”middle” column_margin=”default” column_direction=”default” column_direction_tablet=”default” column_direction_phone=”default” scene_position=”center” text_color=”dark” text_align=”left” row_border_radius=”none” row_border_radius_applies=”bg” overflow=”visible” overlay_strength=”0.3″ gradient_direction=”left_to_right” shape_divider_position=”bottom” bg_image_animation=”none”][vc_column column_padding=”no-extra-padding” column_padding_tablet=”inherit” column_padding_phone=”inherit” column_padding_position=”all” column_element_direction_desktop=”default” column_element_spacing=”default” desktop_text_alignment=”default” tablet_text_alignment=”default” phone_text_alignment=”default” background_color_opacity=”1″ background_hover_color_opacity=”1″ column_backdrop_filter=”none” column_shadow=”none” column_border_radius=”none” column_link_target=”_self” column_position=”default” gradient_direction=”left_to_right” overlay_strength=”0.3″ width=”1/1″ tablet_width_inherit=”default” animation_type=”default” bg_image_animation=”none” border_type=”simple” column_border_width=”none” column_border_style=”solid”][vc_column_text css=”” text_direction=”default”]\nMilwaukee Day at MKE Brewing & The “Tour” You Actually Want \nMilwaukee Day is all about celebrating everything that makes this city great—and let’s be honest\, that includes beer. So\, we’re bringing back the legendary MKE Brewery Tour! \nWell… kind of. \nLook\, we all know the best part of the old “brewery tour” wasn’t the tour—it was the one and a half hour\, all-you-can-drink beer session. So\, we’re skipping the formalities and giving the people what they really want: unlimited MKE beer\, zero unnecessary walking. \nWe’re also dropping some exclusive Milwaukee Day beer releases\, so you can sip on something new while toasting to the city we love. \n🍻 When: Saturday\, April 12th\n🍻 Where: MKE Brewing Company Taproom\n🍻 What: 1.5-hour sessions of all-you-can-drink MKE beer + special releases\nNo staring at tanks\, no long-winded history lessons—just beer. This event sells out fast\, so grab your tickets and get ready to celebrate Milwaukee the right way! \n[/vc_column_text][/vc_column][/vc_row]
URL:https://www.eagleparkbrewing.com/event/mke-day/
LOCATION:MKE Brewing Taproom\, 2335 S Kinnickinnic Ave\, Milwaukee\, 53207\, United States
CATEGORIES:Beer Event
ATTACH;FMTTYPE=image/png:https://www.eagleparkbrewing.com/wp-content/uploads/2025/02/MKE-Day-Cover-Image.png
END:VEVENT
END:VCALENDAR